BEGIN:VCALENDAR
VERSION:2.0
PRODID:-//Covenant Living at Mount Miguel - ECPv6.15.18//NONSGML v1.0//EN
CALSCALE:GREGORIAN
METHOD:PUBLISH
X-ORIGINAL-URL:https://www.covlivingmountmiguel.org
X-WR-CALDESC:Events for Covenant Living at Mount Miguel
REFRESH-INTERVAL;VALUE=DURATION:PT1H
X-Robots-Tag:noindex
X-PUBLISHED-TTL:PT1H
BEGIN:VTIMEZONE
TZID:Asia/Karachi
BEGIN:STANDARD
TZOFFSETFROM:+0500
TZOFFSETTO:+0500
TZNAME:PKT
DTSTART:20220101T000000
END:STANDARD
END:VTIMEZONE
BEGIN:VEVENT
DTSTART;TZID=Asia/Karachi:20231201T100000
DTEND;TZID=Asia/Karachi:20231201T100000
DTSTAMP:20260421T174312
CREATED:20231027T192125Z
LAST-MODIFIED:20231027T192125Z
UID:10000120-1701424800-1701424800@www.covlivingmountmiguel.org
SUMMARY:Holiday Craft Fair
DESCRIPTION:Filled with delightfully charming arts and crafts\, our Holiday Craft Fair will be showcasing local artisans and invited vendors. Browse through an array of wonderful gift possibilities while you enjoy delicious hot chocolate. When you find the perfect ones\, have them beautifully wrapped by the Covenant Living Elves.
URL:https://www.covlivingmountmiguel.org/event/holiday-craft-fair/
LOCATION:CA
CATEGORIES:General
ATTACH;FMTTYPE=image/jpeg:https://www.covlivingmountmiguel.org/wp-content/uploads/2023/10/CLMM-019-thumbnail_12-1-event.jpg
END:VEVENT
END:VCALENDAR