BEGIN:VCALENDAR
VERSION:2.0
PRODID:-//Covenant Living at Mount Miguel - ECPv6.15.18//NONSGML v1.0//EN
CALSCALE:GREGORIAN
METHOD:PUBLISH
X-WR-CALNAME:Covenant Living at Mount Miguel
X-ORIGINAL-URL:https://www.covlivingmountmiguel.org
X-WR-CALDESC:Events for Covenant Living at Mount Miguel
REFRESH-INTERVAL;VALUE=DURATION:PT1H
X-Robots-Tag:noindex
X-PUBLISHED-TTL:PT1H
BEGIN:VTIMEZONE
TZID:Asia/Karachi
BEGIN:STANDARD
TZOFFSETFROM:+0500
TZOFFSETTO:+0500
TZNAME:PKT
DTSTART:20230101T000000
END:STANDARD
END:VTIMEZONE
BEGIN:VEVENT
DTSTART;TZID=Asia/Karachi:20240704T103000
DTEND;TZID=Asia/Karachi:20240704T103000
DTSTAMP:20260424T095812
CREATED:20240422T161732Z
LAST-MODIFIED:20240422T161732Z
UID:10000134-1720089000-1720089000@www.covlivingmountmiguel.org
SUMMARY:4th of July Parade and BBQ!
DESCRIPTION:It’s time again to show your independent spirit! Don your red\, white and blue and find a shady spot to view our parade. Be on\nthe lookout for this year’s brand-new floats! After the parade\, join us at Lake George for live music and a delicious patriotic BBQ.
URL:https://www.covlivingmountmiguel.org/event/4th-of-july-parade-and-bbq/
LOCATION:CA
CATEGORIES:General
ATTACH;FMTTYPE=image/jpeg:https://www.covlivingmountmiguel.org/wp-content/uploads/2024/04/CLMM-022-Event-7_4-Thumbnail.jpg
END:VEVENT
END:VCALENDAR